BEGIN:VCALENDAR
VERSION:2.0
PRODID:Events Booking
BEGIN:VEVENT
UID:69e500fac27a9
SUMMARY:J.B. Clark Post 149
DESCRIPTION:J.B. Clark Post 149 General Meeting
LOCATION:230 E Park Ave\, Escondido\, CA 92025\, USA
DTSTART:20260422T010000Z
DTEND:20260422T023000Z
DTSTAMP:20230319T011732Z
ORGANIZER;CN=Legion Adjutant:MAILTO:info@escondidolegion.org
GEO:33.129524;-117.083291
X-APPLE-STRUCTURED-LOCATION;VALUE=URI;X-ADDRESS=230 E Park Ave\, Escondido\
 , CA 92025\, USA;X-APPLE-RADIUS=72;X-TITLE=Hall:33.129524;-117.083291
END:VEVENT
END:VCALENDAR