BEGIN:VCALENDAR
VERSION:2.0
PRODID:Events Booking
BEGIN:VEVENT
UID:69e9fe5f4644d
SUMMARY:Scrabble Club
DESCRIPTION:Scrabble Club
LOCATION:230 E Park Ave\, Escondido\, CA 92025\, USA
DTSTART:20260425T180000Z
DTEND:20260425T220000Z
DTSTAMP:20230319T020713Z
ORGANIZER;CN=Legion Adjutant:MAILTO:info@escondidolegion.org
GEO:33.129524;-117.083291
X-APPLE-STRUCTURED-LOCATION;VALUE=URI;X-ADDRESS=230 E Park Ave\, Escondido\
 , CA 92025\, USA;X-APPLE-RADIUS=72;X-TITLE=Conference Room:33.129524;-117.
 083291
END:VEVENT
END:VCALENDAR